BEGIN:VCALENDAR
VERSION:2.0
PRODID:-//Colorado Springs Orthopaedic Group - ECPv6.15.20//NONSGML v1.0//EN
CALSCALE:GREGORIAN
METHOD:PUBLISH
X-WR-CALNAME:Colorado Springs Orthopaedic Group
X-ORIGINAL-URL:https://www.csog.net
X-WR-CALDESC:Events for Colorado Springs Orthopaedic Group
REFRESH-INTERVAL;VALUE=DURATION:PT1H
X-Robots-Tag:noindex
X-PUBLISHED-TTL:PT1H
BEGIN:VTIMEZONE
TZID:America/Denver
BEGIN:DAYLIGHT
TZOFFSETFROM:-0700
TZOFFSETTO:-0600
TZNAME:MDT
DTSTART:20220313T090000
END:DAYLIGHT
BEGIN:STANDARD
TZOFFSETFROM:-0600
TZOFFSETTO:-0700
TZNAME:MST
DTSTART:20221106T080000
END:STANDARD
BEGIN:DAYLIGHT
TZOFFSETFROM:-0700
TZOFFSETTO:-0600
TZNAME:MDT
DTSTART:20230312T090000
END:DAYLIGHT
BEGIN:STANDARD
TZOFFSETFROM:-0600
TZOFFSETTO:-0700
TZNAME:MST
DTSTART:20231105T080000
END:STANDARD
BEGIN:DAYLIGHT
TZOFFSETFROM:-0700
TZOFFSETTO:-0600
TZNAME:MDT
DTSTART:20240310T090000
END:DAYLIGHT
BEGIN:STANDARD
TZOFFSETFROM:-0600
TZOFFSETTO:-0700
TZNAME:MST
DTSTART:20241103T080000
END:STANDARD
END:VTIMEZONE
BEGIN:VEVENT
DTSTART;TZID=America/Denver:20230918T090000
DTEND;TZID=America/Denver:20230918T150000
DTSTAMP:20260420T061112
CREATED:20230713T003414Z
LAST-MODIFIED:20230713T005343Z
UID:11171-1695027600-1695049200@www.csog.net
SUMMARY:1st Annual Ambassadors for Hope Charity Golf Tournament
DESCRIPTION:Unfortunately\, human trafficking is a very prevalent issue. Not only nationally\, but here in our local community of Colorado Springs. \n\n\n \n\n\nOn Monday\, September 18th we at Colorado Springs Orthopaedic Group and North by Colorado Media Group are bringing together local businesses and community leaders to develop essential resources and support Reclaiming Hope\, a local non-profit who cares for survivors of human trafficking at the point of recovery and reintegration into society. \n\n\n \n\n\nJoin us in these efforts by registering to play in the 1st Annual Ambassadors for Hope Charity Golf Tournament via the event website https://ambassadorsforhopecos.com/\n\n\n \n\n\nWHEN: Monday\, September 18th\, 2023\n\n\nWHERE: The Club at Flying Horse – 1880 Weiskopf Point\, Colorado Springs\, CO 80921\n\n\nTIME: 9:00am shotgun start – check-in and range will open at 7:30am\n\n\n \n\n\n100% of the proceeds will go directly to Reclaiming Hope and their efforts supporting survivors\n\n\n \n\n\nIt’s time we address this issue!\n\n\n \n\n\nTo learn more about how you can get involved in the Reclaiming Hope mission\, visit their website: https://reclaiming-hope.org/\n\n\n \n\n\n\n\n 
URL:https://www.csog.net/event/ambassadors-for-hope-charity-golf-tournament/
LOCATION:The Club at Flying Horse\, 1880 Weiskopf Point\, Colorado Springs\, Colorado\, 80921
END:VEVENT
END:VCALENDAR